BEGIN:VCALENDAR
VERSION:2.0
PRODID:-//New Approach School for Jewelers - ECPv6.6.4.2//NONSGML v1.0//EN
CALSCALE:GREGORIAN
METHOD:PUBLISH
X-ORIGINAL-URL:https://newapproachschool.com
X-WR-CALDESC:Events for New Approach School for Jewelers
REFRESH-INTERVAL;VALUE=DURATION:PT1H
X-Robots-Tag:noindex
X-PUBLISHED-TTL:PT1H
BEGIN:VTIMEZONE
TZID:UTC
BEGIN:STANDARD
TZOFFSETFROM:+0000
TZOFFSETTO:+0000
TZNAME:UTC
DTSTART:20250101T000000
END:STANDARD
END:VTIMEZONE
BEGIN:VEVENT
DTSTART;VALUE=DATE:20250728
DTEND;VALUE=DATE:20250802
DTSTAMP:20260420T091321
CREATED:20241115T185241Z
LAST-MODIFIED:20250618T012005Z
UID:611-1753660800-1754092799@newapproachschool.com
SUMMARY:Core Class: Stone Setting Comprehensive - CLASS IS FULL - 2026 Schedule Will Post the End-of-October
DESCRIPTION:5-day workshop with Blaine Lewis & Drew Hadley
URL:https://newapproachschool.com/class/core-class-stone-setting-comprehensive-class-just-added/
CATEGORIES:Core Classes,Stone Setting Comprehensive
END:VEVENT
END:VCALENDAR